Workbook
Name _Hlk161312541: '1) Estimation RP7316'!#REF!
Name _Hlk161312541: '2) Estimation RP7102'!$A$21

Sheet 1) Estimation RP7316
A1: ROYAUME DU MAROC MINISTERE DE L’EQUIPEMENT ET DE L’EAU . DIRECTION DES ROUTES . DIRECTION PROVINCIALE DE MIDELT. ******
A2: TRAVAUX DE REPARATION DES DEGATS DE CRUE SUR LA RP7316 DU PK0+000 AU PK 25+000
A3: Estimation
A4: N° Prix | B4: Réf. au CPS ou CPC | C4: DESIGNATIONS DES PRESTATIONS | D4: U | E4: QUANTITE | F4: PRIX UNITAIRE EN DH (HORS TVA) En chiffres | G4: PRODUIT
A5: 1 | B5: Article IV-3 du CPS | C5: Installation de chantier | D5: F | E5: 0 | F5: 0 | G5: 0
C6: Le forfait
A7: 2 | B7: Article IV-3 du CPS | C7: Mise en place de la signalisation globale temporaire | D7: F | E7: 0 | F7: 0 | G7: 0
C8: Le forfait
A9: 3 | B9: Article IV-3 du CPS | C9: Maintien des dispositifs de signalisation et leur remplacement | D9: FM | E9: 0 | F9: 0 | G9: 0
C10: Le forfait mensuel
A11: 4 | B11: Article IV-3 du CPS | C11: Béton de classe B10 y/c Déblai et remblai | D11: M3 | E11: 210 | F11: 650 | G11: =E11*F11 -> 136500
C12: Le mètre cube
A13: 5 | B13: Article IV-3 du CPS | C13: Béton de classe B20 y/c Remblai | D13: M3 | E13: 931 | F13: 850 | G13: =E13*F13 -> 791350
C14: Le mètre cube
A15: 6 | B15: Article IV-3 du CPS | C15: Hérissonnage y/c Déblai et remblai | D15: M3 | E15: 780 | F15: 100 | G15: =E15*F15 -> 78000
C16: Le mètre cube
A17: 7 | B17: Article IV-3 du CPS | C17: Maçonnerie de moellons | D17: M3 | E17: 2133 | F17: 250 | G17: =E17*F17 -> 533250
C18: Le mètre cube
A19: 8 | B19: Article IV-3 du CPS | C19: fossé bétonné type TR0.5 A | D19: M3 | E19: 485 | F19: 350 | G19: =E19*F19 -> 169750
C20: Le mètre cube
A21: =A19+1 -> 9 | B21: Article IV-3 du CPS | C21: Gabion y/c déblai | D21: M3 | E21: 0 | F21: 300 | G21: 0
C22: Le mètre cube
A23: Total Hors TVA | G23: =SUM(G5:G20) -> 1708850
A24: Taux TVA (20%) | G24: =G23*20% -> 341770
A25: Total TTC | G25: =G23+G24 -> 2050620 | H25: =G25*1.5% -> 30759.3

Sheet 2) Estimation RP7102
A1: ROYAUME DU MAROC MINISTERE DE L’EQUIPEMENT ET DE L’EAU . DIRECTION DES ROUTES . DIRECTION PROVINCIALE DE MIDELT. ******
A2: Objet : Travaux de réparation des dégâts des crues survenues sur la RP7102 du PK84+00 au PK 86+333 Province de MIDELT.
A3: Estimation
A4: N° Prix | B4: Réf. au CPS ou CPC | C4: DESIGNATIONS DES PRESTATIONS | D4: U | E4: QUANTITE | F4: PRIX UNITAIRE EN DH (HORS TVA) En chiffres | G4: PRODUIT
A5: 1 | B5: Article IV-3 du CPS | C5: Installation de chantier | D5: F | E5: 0 | F5: 0 | G5: 0
C6: Le forfait
A7: =A5+1 -> 2 | B7: Article IV-3 du CPS | C7: Mise en place de la signalisation globale temporaire | D7: F | E7: 0 | F7: 0 | G7: 0
C8: Le forfait
A9: =A7+1 -> 3 | B9: Article IV-3 du CPS | C9: Maintien des dispositifs de signalisation et leur remplacement | D9: FM | E9: 0 | F9: 0 | G9: 0
C10: Le forfait mensuel
A11: =A9+1 -> 4 | B11: Article IV-3 du CPS | C11: Béton de classe B10 y/c Déblai et remblai | D11: M3 | E11: 78 | F11: 650 | G11: =E11*F11 -> 50700
C12: Le mètre cube
A13: =A11+1 -> 5 | B13: Article IV-3 du CPS | C13: Béton de classe B20 y/c Remblai | D13: M3 | E13: 1984 | F13: 850 | G13: =E13*F13 -> 1686400
C14: Le mètre cube
A15: =A13+1 -> 6 | B15: Article IV-3 du CPS | C15: Hérissonnage y/c Déblai et remblai | D15: M3 | E15: 402 | F15: 100 | G15: =E15*F15 -> 40200
C16: Le mètre cube
A17: =A15+1 -> 7 | B17: Article IV-3 du CPS | C17: Maçonnerie de moellons | D17: M3 | E17: 224 | F17: 250 | G17: =E17*F17 -> 56000
C18: Le mètre cube
A19: =A17+1 -> 8 | B19: Article IV-3 du CPS | C19: fossé bétonné type TR0.5 A | D19: M3 | E19: 280 | F19: 350 | G19: =E19*F19 -> 98000
C20: Le mètre cube
A21: =A19+1 -> 9 | B21: Article IV-3 du CPS | C21: Gabion y/c déblai | D21: M3 | E21: 2728 | F21: 300 | G21: =E21*F21 -> 818400
C22: Le mètre cube
A23: Total Hors TVA | G23: =SUM(G5:G20) -> 1931300 | I23: =G25*5% -> 115878
A24: Taux TVA (20%) | G24: =0.2*G23 -> 386260 | I24: =G25*1.5% -> 34763.4
A25: Total TTC | G25: =G23+G24 -> 2317560
L34: =175*3000 -> 525000

Sheet ESTIMATION 1+2
A1: ROYAUME DU MAROC MINISTERE DE L’EQUIPEMENT ET DE L’EAU . DIRECTION DES ROUTES . DIRECTION PROVINCIALE DE MIDELT. ******
A2: Objet : Travaux de réparation de dégâts de crues survenus sur la RP7316 du PK0+000 au PK 25+000 et sur la RP7102 du PK84+00 au PK 86+333 dans la province de Midelt.
A3: Estimation
A4: N° Prix | B4: Réf. au CPS ou CPC | C4: DESIGNATIONS DES PRESTATIONS | D4: U | E4: QUANTITE | F4: PRIX UNITAIRE EN DH (HORS TVA) En chiffres | G4: PRODUIT
A5: 1 | B5: Article IV-3 du CPS | C5: Installation de chantier | D5: F | E5: 1 | F5: 220000 | G5: =E5*F5 -> 220000
C6: Le forfait
A7: =A5+1 -> 2 | B7: Article IV-3 du CPS | C7: Mise en place de la signalisation globale temporaire | D7: F | E7: 1 | F7: 40000 | G7: =E7*F7 -> 40000
C8: Le forfait
A9: =A7+1 -> 3 | B9: Article IV-3 du CPS | C9: Maintien des dispositifs de signalisation et leur remplacement | D9: FM | E9: 10 | F9: 1000 | G9: =E9*F9 -> 10000
C10: Le forfait mensuel
A11: =A9+1 -> 4 | B11: Article IV-3 du CPS | C11: Béton de classe B10 y/c Déblai et remblai | D11: M3 | E11: =ROUNDUP('1) Estimation RP7316'!E11:E12+'2) Estimation RP7102'!E11:E12,0) -> 288 | F11: 650 | G11: =E11*F11 -> 187200
C12: Le mètre cube
A13: =A11+1 -> 5 | B13: Article IV-3 du CPS | C13: Béton de classe B20 y/c Remblai | D13: M3 | E13: =ROUNDUP('1) Estimation RP7316'!E13:E14+'2) Estimation RP7102'!E13:E14,0) -> 2915 | F13: 950 | G13: =E13*F13 -> 2769250
C14: Le mètre cube
A15: =A13+1 -> 6 | B15: Article IV-3 du CPS | C15: Hérissonnage y/c Déblai et remblai | D15: M3 | E15: =ROUNDUP('1) Estimation RP7316'!E15:E16+'2) Estimation RP7102'!E15:E16,0) -> 1182 | F15: 120 | G15: =E15*F15 -> 141840
C16: Le mètre cube
A17: =A15+1 -> 7 | B17: Article IV-3 du CPS | C17: Maçonnerie de moellons | D17: M3 | E17: =ROUNDUP('1) Estimation RP7316'!E17:E18+'2) Estimation RP7102'!E17:E18,0) -> 2357 | F17: 350 | G17: =E17*F17 -> 824950
C18: Le mètre cube
A19: =A17+1 -> 8 | B19: Article IV-3 du CPS | C19: fossé bétonné type TR0.5 A | D19: M3 | E19: =ROUNDUP('1) Estimation RP7316'!E19:E20+'2) Estimation RP7102'!E19:E20,0) -> 765 | F19: 400 | G19: =E19*F19 -> 306000
C20: Le mètre cube
A21: =A19+1 -> 9 | B21: Article IV-3 du CPS | C21: Gabion y/c déblai | D21: M3 | E21: =ROUNDUP('1) Estimation RP7316'!E21:E22+'2) Estimation RP7102'!E21:E22,0) -> 2728 | F21: 350 | G21: =E21*F21 -> 954800
C22: Le mètre cube
A23: Total Hors TVA | G23: =SUM(G5:G20) -> 4499240
A24: Taux TVA (20%) | G24: =0.2*G23 -> 899848
A25: Total TTC | G25: =G23+G24 -> 5399088

Sheet Feuil3
A1: ROYAUME DU MAROC MINISTERE DE L’EQUIPEMENT ET DE L’EAU . DIRECTION DES ROUTES . DIRECTION PROVINCIALE DE MIDELT. ******
A2: Objet : Travaux de réparation de dégâts de crues survenus sur la RP7316 du PK0+000 au PK 25+000 et sur la RP7102 du PK84+00 au PK 86+333 dans la province de Midelt.
A3: Estimation
A4: N° Prix | B4: Réf. au CPS ou CPC | C4: DESIGNATIONS DES PRESTATIONS | D4: U | E4: QUANTITE | F4: PRIX UNITAIRE EN DH (HORS TVA) En chiffres | G4: PRODUIT
A5: 1 | B5: Article IV-3 du CPS | C5: Installation de chantier | D5: F | E5: 1
C6: Le forfait
A7: =A5+1 -> 2 | B7: Article IV-3 du CPS | C7: Mise en place de la signalisation globale temporaire | D7: F | E7: 1
C8: Le forfait
A9: =A7+1 -> 3 | B9: Article IV-3 du CPS | C9: Maintien des dispositifs de signalisation et leur remplacement | D9: FM | E9: 10
C10: Le forfait mensuel
A11: =A9+1 -> 4 | B11: Article IV-3 du CPS | C11: Béton de classe B10 y/c Déblai et remblai | D11: M3 | E11: =ROUNDUP('1) Estimation RP7316'!E11:E12+'2) Estimation RP7102'!E11:E12,0) -> 288
C12: Le mètre cube
A13: =A11+1 -> 5 | B13: Article IV-3 du CPS | C13: Béton de classe B20 y/c Remblai | D13: M3 | E13: =ROUNDUP('1) Estimation RP7316'!E13:E14+'2) Estimation RP7102'!E13:E14,0) -> 2915
C14: Le mètre cube
A15: =A13+1 -> 6 | B15: Article IV-3 du CPS | C15: Hérissonnage y/c Déblai et remblai | D15: M3 | E15: =ROUNDUP('1) Estimation RP7316'!E15:E16+'2) Estimation RP7102'!E15:E16,0) -> 1182
C16: Le mètre cube
A17: =A15+1 -> 7 | B17: Article IV-3 du CPS | C17: Maçonnerie de moellons | D17: M3 | E17: =ROUNDUP('1) Estimation RP7316'!E17:E18+'2) Estimation RP7102'!E17:E18,0) -> 2357
C18: Le mètre cube
A19: =A17+1 -> 8 | B19: Article IV-3 du CPS | C19: fossé bétonné type TR0.5 A | D19: M3 | E19: =ROUNDUP('1) Estimation RP7316'!E19:E20+'2) Estimation RP7102'!E19:E20,0) -> 765
C20: Le mètre cube
A21: =A19+1 -> 9 | B21: Article IV-3 du CPS | C21: Gabion y/c déblai | D21: M3 | E21: =ROUNDUP('1) Estimation RP7316'!E21:E22+'2) Estimation RP7102'!E21:E22,0) -> 2728
C22: Le mètre cube
A23: Total Hors TVA
A24: Taux TVA (20%)
A25: Total TTC

Sheet LES SOLUTIONS
A1: RP7102 | B1: Route | C1: Nature des Travaux | D1: Référence du profil type
B2: PK86+200 | C2: Construction d'un mur en béton B20 | D2: Suivant la fiche technique approuvée et aux lieux désignés par le M.O
C3: Construction des accotements bétonnées
C4: Construction de radier ordinaire
C5: construction des protections en gabions
B6: PK85+600 | C6: Construction d'un mur en béton B20
C7: Construction des accotements bétonnées
C8: Protection en gabions
C9: Protections en fossé bétonné
B10: PK84+800 | C10: Construction d'un mur en béton B20
C11: Construction des accotements bétonnées
C12: Protection en gabions
B13: PK84+400 | C13: Construction d'un mur en béton B20
C14: Construction des accotements bétonnées
C15: Protection en gabions
C16: Protection en faussée bétonnée
B17: PK84+350 | C17: Construction d'un radier en béton B20
B18: PK73+200 | C18: Construction d'un mur en maçonnerie
C19: Construction des accotements bétonnées
C20: Protection cote aval en gabions
A24: Route | B24: PK | C24: Nature des Travaux | D24: Référence du profil type
A25: RP7316 | B25: PK0+100 PK5+000 PK5+200 PK5+300 | C25: Construction des accotements bétonnées avec coulisse | D25: Suivant la fiche technique approuvée et aux lieux désignés par le M.O
B26: PK1+600 PK1+900 | C26: Construction des accotements bétonnées Avec fossé bétonnée
B27: PK3+000 PK5+100 PK5+800 PK5+900 | C27: Construction des accotements bétonnées Avec mur en maçonnerie

Sheet BPDE
A1: marché N° ……......................../2026
A2: BORDEREAU DES PRIX-DETAIL EASTIMATIF
A3: Objet | B3: TRAVAUX DE CONSTRUCTION D’UN OUVRAGE D’ART SUR OUED MOULOUYA AU PK339+110 DE LA RN13 (PROVINCE DE MIDELT)
A5: PRIX N° | B5: REFERENCE AU CPS | C5: DESIGNATION DU PRIX | D5: UNITE | E5: QUANTITE | F5: PRIX UNITAIRE HTVA | G5: PRODUIT (Qté*PU HTVA)
A6: 100 - PRIX GENERAUX
A7: 101 | B7: Article 78 | C7: Installation et repli du chantier | D7: Ft | E7: 1 | G7: =TRUNC(E7*F7,2) -> 0
A8: 102 | B8: Article 78 | C8: Mise en place de la signalisation globale temporaire | D8: F | E8: 1 | G8: =TRUNC(E8*F8,2) -> 0
A9: 103 | B9: Article 78 | C9: Maintien des panneaux et leur remplacement | D9: FM | E9: 12 | G9: =TRUNC(E9*F9,2) -> 0
A10: 104 | B10: Article 78 | C10: Stabilisation des accès routiers et des appuis de l’OA existant | D10: Ft | E10: 1 | G10: =TRUNC(E10*F10,2) -> 0
A11: 105 | B11: Article 78 | C11: Matériel des épreuves de chargement | D11: Ft | E11: 1 | G11: =TRUNC(E11*F11,2) -> 0
A12: 200 - TERRASSEMENTS ET FOUILLES
A13: 201 | B13: Article 78 | C13: Déblais pour fouilles | D13: m3 | E13: 1090 | G13: =TRUNC(E13*F13,2) -> 0
A14: 202 | B14: Article 78 | C14: Remblaiement des fouilles | D14: m3 | E14: 1323 | G14: =TRUNC(E14*F14,2) -> 0
A15: 203 | B15: Article 78 | C15: Remblais contigus | D15: m3 | E15: 1028 | G15: =TRUNC(E15*F15,2) -> 0
A16: 300 – PILES ET CULEES
A17: 301 | B17: Article 78 | C17: Béton de propreté (BPE) | D17: m3 | E17: 33 | G17: =TRUNC(E17*F17,2) -> 0
A18: 302 | B18: Article 78 | C18: Béton Classe B30 | D18: m3 | E18: 459 | G18: =TRUNC(E18*F18,2) -> 0
A19: 303 | B19: Article 78 | C19: Coffrage parties non vues | D19: m2 | E19: 392 | G19: =TRUNC(E19*F19,2) -> 0
A20: 304 | B20: Article 78 | C20: Coffrage parements soignés simples | D20: m2 | E20: 363 | G20: =TRUNC(E20*F20,2) -> 0
A21: 305 | B21: Article 78 | C21: Acier à haute adhérence (H.A) | D21: Kg | E21: 56923 | G21: =TRUNC(E21*F21,2) -> 0
A22: 306 | B22: Article 78 | C22: Acier rond lisse (DX) | D22: Kg | E22: 464 | G22: =TRUNC(E22*F22,2) -> 0
A23: 400 – TABLIER
A24: 401 | B24: Article 78 | C24: Béton Classe B30 | D24: m3 | E24: 431 | G24: =TRUNC(E24*F24,2) -> 0
A25: 402 | B25: Article 78 | C25: Coffrage soigné pour parement vus | D25: m2 | E25: 1818 | G25: =TRUNC(E25*F25,2) -> 0
A26: 403 | B26: Article 78 | C26: Aciers à haute adhérence (H,A) | D26: Kg | E26: 136205 | G26: =TRUNC(E26*F26,2) -> 0
A27: 404 | B27: Article 78 | C27: Aciers ronds lisses (DX) | D27: Kg | E27: 123 | G27: =TRUNC(E27*F27,2) -> 0
A28: 405 | B28: Article 78 | C28: Préfabrication et mise en place des prédalles | D28: m² | E28: 471 | G28: =TRUNC(E28*F28,2) -> 0
A29: 406 | B29: Article 78 | C29: Atelier de fabrication des poutres | D29: Ft | E29: 1 | G29: =TRUNC(E29*F29,2) -> 0
A30: 407 | B30: Article 78 | C30: Transport et mise en place des poutres | D30: U | E30: 20 | G30: =TRUNC(E30*F30,2) -> 0
A31: 500 – EQUIPEMENTS DU TABLIER
A32: 501 | B32: Article 78 | C32: Joints de chaussée de souffle 80mm pour culées | D32: ml | E32: 16 | G32: =TRUNC(E32*F32,2) -> 0
A33: 502 | B33: Article 78 | C33: Joints pour trottoirs de souffle 80mm pour culées | D33: ml | E33: 4 | G33: =TRUNC(E33*F33,2) -> 0
A34: 503 | B34: Article 78 | C34: Etanchéité du tablier | D34: m2 | E34: 982 | G34: =TRUNC(E34*F34,2) -> 0
A35: 504 | B35: Article 78 | C35: Revêtement du tablier : EB (6 cm ) | D35: m2 | E35: 842 | G35: =TRUNC(E35*F35,2) -> 0
A36: 505 | B36: Article 78 | C36: Garde-corps type S8 | D36: ml | E36: 236 | G36: =TRUNC(E36*F36,2) -> 0
A37: 506 | B37: Article 78 | C37: Corniches préfabriquées en béton armé y compris contre corniche | D37: ml | E37: 118 | G37: =TRUNC(E37*F37,2) -> 0
A38: 507 | B38: Article 78 | C38: Corps de trottoirs | D38: ml | E38: 118 | G38: =TRUNC(E38*F38,2) -> 0
A39: 508 | B39: Article 78 | C39: Bordures de trottoirs | D39: ml | E39: 236 | G39: =TRUNC(E39*F39,2) -> 0
A40: 509 | B40: Article 78 | C40: Appareils d’appui en élastomère fretté Type C | D40: dm3 | E40: 116 | G40: =TRUNC(E40*F40,2) -> 0
A41: 510 | B41: Article 78 | C41: Appareils d’appui en élastomère fretté Type B | D41: dm3 | E41: 173 | G41: =TRUNC(E41*F41,2) -> 0
A42: 511 | B42: Article 78 | C42: Gargouille | D42: U | E42: 5 | G42: =TRUNC(E42*F42,2) -> 0
A43: 600 – EQUIPEMENT DIVERS ET PROTECTION
A44: 601 | B44: Article 78 | C44: Badigeonnage | D44: m2 | E44: 572 | G44: =TRUNC(E44*F44,2) -> 0
A45: 602 | B45: Article 78 | C45: Glissière de sécurité | D45: ml | E45: 20 | G45: =TRUNC(E45*F45,2) -> 0
A46: 603 | B46: Article 78 | C46: Enrochements en calibre : 100-400 kg | D46: m3 | E46: 929 | G46: =TRUNC(E46*F46,2) -> 0
A47: 604 | B47: Article 78 | C47: Géotextiles | D47: m2 | E47: 259 | G47: =TRUNC(E47*F47,2) -> 0
A48: 605 | B48: Article 78 | C48: Dispositif de drainage derrière les parois | D48: m² | E48: 105 | G48: =TRUNC(E48*F48,2) -> 0
A49: 606 | B49: Article 78 | C49: Barbacanes | D49: ml | E49: 16 | G49: =TRUNC(E49*F49,2) -> 0
A50: 700 – RACCORDEMENTS
A51: 701 | B51: Article 78 | C51: Déblais | D51: m3 | E51: 1252 | G51: =TRUNC(E51*F51,2) -> 0
A52: 702 | B52: Article 78 | C52: Remblais | D52: m3 | E52: 1342 | G52: =TRUNC(E52*F52,2) -> 0
A53: 703 | B53: Article 78 | C53: GNF1 0/40 | D53: m3 | E53: 702 | G53: =TRUNC(E53*F53,2) -> 0
A54: 704 | B54: Article 78 | C54: GNF1 0/60 | D54: m3 | E54: 702 | G54: =TRUNC(E54*F54,2) -> 0
A55: 705 | B55: Article 78 | C55: GNF3 0/40 | D55: m3 | E55: 116 | G55: =TRUNC(E55*F55,2) -> 0
A56: 706 | B56: Article 78 | C56: Mise en œuvre d'enduit d'imprégnation | D56: m2 | E56: 3509 | G56: =TRUNC(E56*F56,2) -> 0
A57: 707 | B57: Article 78 | C57: Fourniture de liant pour enduit d’imprégnation | D57: T | E57: 5.3 | G57: =TRUNC(E57*F57,2) -> 0
A58: 708 | B58: Article 78 | C58: Fourniture de liant pour couche d’accrochage yc mise en œuvre | D58: T | E58: 2.7 | G58: =TRUNC(E58*F58,2) -> 0
A59: 709 | B59: Article 78 | C59: Grave bitume GB2 | D59: T | E59: 913 | G59: =TRUNC(E59*F59,2) -> 0
A60: 710 | B60: Article 78 | C60: Enrobé bitumineux BBSG2 | D60: T | E60: 506 | G60: =TRUNC(E60*F60,2) -> 0
A61: 711 | B61: Article 78 | C61: Fourniture de bitume pur 35/50 pour GB2 et BBSG2 | D61: T | E61: 76 | G61: =TRUNC(E61*F61,2) -> 0
A62: 712 | B62: Article 78 | C62: Bordure type T4 | D62: ml | E62: 680 | G62: =TRUNC(E62*F62,2) -> 0
... A64: 714 | B64: Article 78 | C64: Mise en œuvre de TPC y compris herrissonage | D64: m2 | E64: 68 | G64: =TRUNC(E64*F64,2) -> 0
A65: 800 – DEPLACEMENT DES CONTRAINTES
A66: 801 | B66: Article 78 | C66: Déplacement des lampadaires | D66: U | E66: 1 | G66: =TRUNC(E66*F66,2) -> 0
A67: 802 | B67: Article 78 | C67: Déplacement des regards y compris conduite | D67: U | E67: 4 | G67: =TRUNC(E67*F67,2) -> 0
A68: TOTAL HT | G68: =SUM(G7:G67) -> 0
A69: TOTAL TVA | G69: =TRUNC(G68*0.2,2) -> 0
A70: TOTAL TTC | G70: =G69+G68 -> 0
B72: signature de concurrent
