Workbook

Sheet Bordereau sans prix
F2: 45901
A3: Travaux d'aménagement de la Trésorerie Provinciale de TINGHIR en tout corps d'état
A5: Prix N° | B5: Désignation des ouvrages | C5: Unité | D5: Qté | E5: PU/ DH H.T. | F5: P.T HT
B7: I-Travaux préliminaires d’aménagement
A8: I-1 | B8: Dépose des installations et équipements existants | C8: Forfait | D8: 1
A9: I-2 | B9: Dépose des revêtement des murs des sanitaires et cuisine | C9: M² | D9: =+métré!I19 -> 67
A10: I-3 | B10: Dépose des revêtements des sols des sanitaires et cuisine y compris forme | C10: M² | D10: =+métré!I26 -> 24
A11: I-4 | B11: Démolition des murs d'épaisseur 10 cm y compris évacuation | C11: M² | D11: =+métré!I38 -> 29
A12: I-5 | B12: Démolition des dalettes ,paillasses et renformis de placards | C12: M² | D12: 30
B13: SOUS TOTAL I- Travaux préliminaires d’aménagement
B14: II-Travaux d'assainissement
A15: II-1 | B15: Regards en béton d'assainissement de dimension intérieurs de 50 cm y compris tampons en fontes-Profondeurs variables | C15: U | D15: 16
A16: II-2 | B16: Buses d'assainissement en PVC série 2, de diamètre 200 | C16: ML | D16: 100
A17: II-3 | B17: Branchement à l'égout publique y compris démarches administratives | C17: Ens | D17: 1
A18: II-4 | B18: Traversée des maçonneries ou des voiles en béton des buses ou des canalisation d'assainissement y compris réfection et étanchéité des ouvrages traversés | C18: U | D18: 15
A19: II-5 | B19: Construction d'un caniveau en béton pour évacuation des eaux pluviales vers la voirie extérieure y compris grille | C19: ML | D19: 22
B20: SOUS TOTAL II- -Travaux d'assainissement
B21: III-Travaux de constructions et d'aménagement
A22: III-1 | B22: Construction cloisons en briques creuses de 7 cm y compris enduit de ciment | C22: M² | D22: =+métré!I60 -> 27
A23: III-2 | B23: Reprise des revêtements existants suite travaux de démolitions ou d'assainissement y compris dalle support et formes. | C23: M² | D23: 50
A24: III-3 | B24: Revêtement mural en carreaux grés Céram de 30 x 60 cm | C24: M² | D24: =+métré!I73 -> 67
A25: III-4 | B25: Revêtement du sol en carreaux grés Céram de 30 x 30 cm anti dérapants | C25: M² | D25: =+métré!I80 -> 24
A26: III-5 | B26: Remplacement de la quincaillerie des portes en bois | C26: U | D26: 20
A27: III-6 | B27: Remplacement de la quincaillerie de la porte principale en aluminium | C27: U | D27: 1
A28: III-7 | B28: Remplacement de la quincaillerie de la porte arrière en aluminium | C28: U | D28: 1
A29: III-8 | B29: Remplacement de la quincaillerie des portes métallique baraudés ou pleines à 1 ou 2 vantux | C29: U | D29: 6
A30: III-9 | B30: Entretien de la quincaillerie des fenêtres en aluminium à deux vantaux coulissants | C30: U | D30: 16
A31: III-10 | B31: Entretien de la quincaillerie des fenêtres en aluminium à un vantail battant | C31: U | D31: 12
A32: III-11 | B32: Fourniture et pose de stores en tissu à enroulement | C32: M² | D32: =+métré!I95 -> 45
A33: III-12 | B33: Réfection peinture glycérophtalique mat sur bois des portes | C33: M² | D33: =+métré!I100 -> 93
A34: III-13 | B34: Réfection peinture glycérophtalique sur ferronnerie, | C34: M² | D34: =+métré!I118 -> 173
A35: III-14 | B35: Réfection peinture des murs intérieures | C35: M² | D35: =+métré!I145 -> 2080
A36: III-15 | B36: Réfection peinture vinylique des plafonds | C36: M² | D36: =+métré!I154 -> 113
A37: III-16 | B37: Réfection peinture vinylique des façades | C37: M² | D37: =+métré!I164 -> 1118
A38: III-17 | B38: Réparation et colmatage des fissures profondes des murs | C38: ML | D38: 15
A39: III-18 | B39: Réparation et colmatage des fissures superficielles des murs | C39: ML | D39: 15
A40: III-19 | B40: Réparation et colmatage des fissures profondes des sols | C40: ML | D40: 15
A41: III-20 | B41: Réfection de l'étanchéité des terrasses et salle d'eau de l'étage aux endroits détériorés y compris revêtement | C41: M² | D41: 160
A42: III-21 | B42: Fourniture et pose d'une porte blindée pour chambre forte doublée de l’intérieur d’une porte métallique barreaudée | C42: ENS | D42: 1
A43: III-22 | B43: Meuble bas de cuisine à une ou 2 portes / profondeur : 60 cm, hauteur: 88 cm | C43: ML | D43: 2.4
...

Sheet Bordereau estimatif
A2: Travaux d’aménagement et d’installation à la Trésorerie Provinciale de Tinghir en lot unique.
A4: Prix N° | B4: Désignation des ouvrages | C4: Unité | D4: Qté | E4: PU/ DH H.T. | F4: P.T HT
B6: I-Travaux préliminaires d’aménagement
A7: I-1 | B7: Dépose des installations et équipements existants | C7: Forfait | D7: 1 | F7: =+ROUND(D7*E7,2) -> 0
A8: I-2 | B8: Dépose des revêtement des murs des sanitaires et cuisine | C8: M² | D8: =+métré!I19 -> 67 | F8: =+ROUND(D8*E8,2) -> 0
A9: I-3 | B9: Dépose des revêtements des sols des sanitaires et cuisine y compris forme | C9: M² | D9: =+métré!I26 -> 24 | F9: =+ROUND(D9*E9,2) -> 0
A10: I-4 | B10: Démolition des murs d'épaisseur 10 cm y compris évacuation | C10: M² | D10: =+métré!I38 -> 29 | F10: =+ROUND(D10*E10,2) -> 0
A11: I-5 | B11: Démolition des dalettes ,paillasses et renformis de placards | C11: M² | D11: 30 | F11: =+ROUND(D11*E11,2) -> 0
B12: SOUS TOTAL I- Travaux préliminaires d’aménagement | F12: =SUM(F7:F11) -> 0
B13: II-Travaux d'assainissement
A14: II-1 | B14: Regards en béton d'assainissement de dimension intérieurs de 50 cm y compris tampons en fontes-Profondeurs variables | C14: U | D14: 16 | F14: =+ROUND(D14*E14,2) -> 0
A15: II-2 | B15: Buses d'assainissement en PVC série 2, de diamètre 200 | C15: ML | D15: 100 | F15: =+ROUND(D15*E15,2) -> 0
A16: II-3 | B16: Branchement à l'égout publique y compris démarches administratives | C16: Ens | D16: 1 | F16: =+ROUND(D16*E16,2) -> 0
A17: II-4 | B17: Traversée des maçonneries ou des voiles en béton des buses ou des canalisation d'assainissement y compris réfection et étanchéité des ouvrages traversés | C17: U | D17: 15 | F17: =+ROUND(D17*E17,2) -> 0
A18: II-5 | B18: Construction d'un caniveau en béton pour évacuation des eaux pluviales vers la voirie extérieure y compris grille | C18: ML | D18: 22 | F18: =+ROUND(D18*E18,2) -> 0
B19: SOUS TOTAL II- -Travaux d'assainissement | F19: =SUM(F14:F18) -> 0
B20: III-Travaux de constructions et d'aménagement
A21: III-1 | B21: Construction cloisons en briques creuses de 7 cm y compris enduit de ciment | C21: M² | D21: =+métré!I60 -> 27 | F21: =+ROUND(D21*E21,2) -> 0
A22: III-2 | B22: Reprise des revêtements existants suite travaux de démolitions ou d'assainissement y compris dalle support et formes. | C22: M² | D22: 50 | F22: =+ROUND(D22*E22,2) -> 0
A23: III-3 | B23: Revêtement mural en carreaux grés Céram de 30 x 60 cm | C23: M² | D23: =+métré!I73 -> 67 | F23: =+ROUND(D23*E23,2) -> 0
A24: III-4 | B24: Revêtement du sol en carreaux grés Céram de 30 x 30 cm anti dérapants | C24: M² | D24: =+métré!I80 -> 24 | F24: =+ROUND(D24*E24,2) -> 0
A25: III-5 | B25: Remplacement de la quincaillerie des portes en bois | C25: U | D25: 20 | F25: =+ROUND(D25*E25,2) -> 0
A26: III-6 | B26: Remplacement de la quincaillerie de la porte principale en aluminium | C26: U | D26: 1 | F26: =+ROUND(D26*E26,2) -> 0
A27: III-7 | B27: Remplacement de la quincaillerie de la porte arrière en aluminium | C27: U | D27: 1 | F27: =+ROUND(D27*E27,2) -> 0
A28: III-8 | B28: Remplacement de la quincaillerie des portes métallique baraudés ou pleines à 1 ou 2 vantux | C28: U | D28: 6 | F28: =+ROUND(D28*E28,2) -> 0
A29: III-9 | B29: Entretien de la quincaillerie des fenêtres en aluminium à deux vantaux coulissants | C29: U | D29: 16 | F29: =+ROUND(D29*E29,2) -> 0
A30: III-10 | B30: Entretien de la quincaillerie des fenêtres en aluminium à un vantail battant | C30: U | D30: 12 | F30: =+ROUND(D30*E30,2) -> 0
A31: III-11 | B31: Fourniture et pose de stores en tissu à enroulement | C31: M² | D31: =+métré!I95 -> 45 | F31: =+ROUND(D31*E31,2) -> 0
A32: III-12 | B32: Réfection peinture glycérophtalique mat sur bois des portes | C32: M² | D32: =+métré!I100 -> 93 | F32: =+ROUND(D32*E32,2) -> 0
A33: III-13 | B33: Réfection peinture glycérophtalique sur ferronnerie, | C33: M² | D33: =+métré!I118 -> 173 | F33: =+ROUND(D33*E33,2) -> 0
A34: III-14 | B34: Réfection peinture des murs intérieures | C34: M² | D34: =+métré!I145 -> 2080 | F34: =+ROUND(D34*E34,2) -> 0
A35: III-15 | B35: Réfection peinture vinylique des plafonds | C35: M² | D35: =+métré!I154 -> 113 | F35: =+ROUND(D35*E35,2) -> 0
A36: III-16 | B36: Réfection peinture vinylique des façades | C36: M² | D36: =+métré!I164 -> 1118 | F36: =+ROUND(D36*E36,2) -> 0
A37: III-17 | B37: Réparation et colmatage des fissures profondes des murs | C37: ML | D37: 30 | F37: =+ROUND(D37*E37,2) -> 0
A38: III-18 | B38: Réparation et colmatage des fissures superficielles des murs | C38: ML | D38: 30 | F38: =+ROUND(D38*E38,2) -> 0
A39: III-19 | B39: Réparation et colmatage des fissures profondes des sols | C39: ML | D39: 30 | F39: =+ROUND(D39*E39,2) -> 0
A40: III-20 | B40: Réfection de l'étanchéité des terrasses et salle d'eau de l'étage aux endroits détériorés y compris revêtement | C40: M² | D40: 160 | F40: =+ROUND(D40*E40,2) -> 0
A41: III-21 | B41: Fourniture et pose d'une porte blindée pour chambre forte doublée de l’intérieur d’une porte métallique barreaudée | C41: ENS | D41: 1 | F41: =+ROUND(D41*E41,2) -> 0
A42: III-22 | B42: Meuble bas de cuisine à une ou 2 portes / profondeur : 60 cm, hauteur: 88 cm | C42: ML | D42: 2.4 | F42: =+ROUND(D42*E42,2) -> 0
A43: III-23 | B43: Meuble bas bloc de 4 tiroirs de dimension 42 x 60 x 88 cm | C43: U | D43: 1 | F43: =+ROUND(D43*E43,2) -> 0
...

Sheet métré
A3: Métré estimatif des travaux
A4: N° | B4: DESIGNATION | C4: Nb | D4: Long | E4: Larg. | F4: Haut | G4: Aux | H4: Total | I4: Total | J4: U
B6: =+'Bordereau estimatif'!B6 -> I-Travaux préliminaires d’aménagement
A7: =+'Bordereau estimatif'!A8 -> I-2 | B7: =+'Bordereau estimatif'!B8 -> Dépose des revêtement des murs des sanitaires et cuisine
B8: murs sanitaire privé | C8: 1 | D8: 6.5 | E8: 1 | F8: 2.2 | G8: =ROUND(+C8*D8*F8*E8,2) -> 14.3
B9: déduction porte | C9: -1 | D9: 0.8 | E9: 1 | F9: 2.1 | G9: =ROUND(+C9*D9*F9*E9,2) -> -1.68
B10: murs sanitaire femmes | C10: 1 | D10: 7 | E10: 1 | F10: 2.2 | G10: =ROUND(+C10*D10*F10*E10,2) -> 15.4
B11: déduction porte | C11: -1 | D11: 0.8 | E11: 1 | F11: 2.1 | G11: =ROUND(+C11*D11*F11*E11,2) -> -1.68
B12: mur sanitaires hommes | C12: 1 | D12: 7.8 | E12: 1 | F12: 2.2 | G12: =ROUND(+C12*D12*F12*E12,2) -> 17.16
C13: 1 | D13: 6 | E13: 1 | F13: 2.2 | G13: =ROUND(+C13*D13*F13*E13,2) -> 13.2
C14: 1 | D14: 5 | E14: 1 | F14: 2.2 | G14: =ROUND(+C14*D14*F14*E14,2) -> 11
B15: déduction porte | C15: -5 | D15: 0.8 | E15: 1 | F15: 2.1 | G15: =ROUND(+C15*D15*F15*E15,2) -> -8.4
B16: murs crédance cuisine | C16: 1 | D16: 3 | E16: 1 | F16: 0.6 | G16: =ROUND(+C16*D16*F16*E16,2) -> 1.8
H17: =SUM(G8:G17) -> 61.1
I18: =ROUND(SUM(H17:H18),2) -> 61.1 | J18: M²
E19: Majoration 10 % | I19: =+ROUND(I18*1.1,0) -> 67 | J19: M²
A20: =+'Bordereau estimatif'!A9 -> I-3 | B20: =+'Bordereau estimatif'!B9 -> Dépose des revêtements des sols des sanitaires et cuisine y compris forme
B21: sol sanitaire privé | C21: 1 | D21: 2 | E21: 1 | F21: 1 | G21: =ROUND(+C21*D21*F21*E21,2) -> 2
B22: sol sanitaire du personnel | C22: 1 | D22: 8 | E22: 1 | F22: 1 | G22: =ROUND(+C22*D22*F22*E22,2) -> 8
B23: sol cuisine | C23: 1 | D23: 12 | E23: 1 | F23: 1 | G23: =ROUND(+C23*D23*F23*E23,2) -> 12
H24: =SUM(G21:G24) -> 22
I25: =ROUND(SUM(H24:H25),2) -> 22 | J25: M²
E26: Majoration 10 % | I26: =+ROUND(I25*1.1,0) -> 24 | J26: M²
A27: =+'Bordereau estimatif'!A10 -> I-4 | B27: =+'Bordereau estimatif'!B10 -> Démolition des murs d'épaisseur 10 cm y compris évacuation
B28: murs placars secrétariat | C28: 1 | D28: 1 | E28: 1 | F28: 3.5 | G28: =ROUND(+C28*D28*F28*E28,2) -> 3.5
B29: murs placars bureau 1 | C29: 1 | D29: 1 | E29: 1 | F29: 3.5 | G29: =ROUND(+C29*D29*F29*E29,2) -> 3.5
B30: murs placars bureau 2 | C30: 1 | D30: 1 | E30: 1 | F30: 3.5 | G30: =ROUND(+C30*D30*F30*E30,2) -> 3.5
B31: murs placars bureau 3 | C31: 1 | D31: 1 | E31: 1 | F31: 3.5 | G31: =ROUND(+C31*D31*F31*E31,2) -> 3.5
B32: murs placars cuisine | C32: 1 | D32: 1 | E32: 1 | F32: 3.5 | G32: =ROUND(+C32*D32*F32*E32,2) -> 3.5
B33: murs placars fondé de pouvoir 1 | C33: 1 | D33: 1 | E33: 1 | F33: 3.5 | G33: =ROUND(+C33*D33*F33*E33,2) -> 3.5
B34: murs placars fondé de pouvoir 2 | C34: 1 | D34: 1 | E34: 1 | F34: 3.5 | G34: =ROUND(+C34*D34*F34*E34,2) -> 3.5
B35: ouverture pour porte | C35: 1 | D35: 1 | E35: 1 | F35: 2.2 | G35: =ROUND(+C35*D35*F35*E35,2) -> 2.2
H36: =SUM(G28:G36) -> 26.7
I37: =ROUND(SUM(H36:H37),2) -> 26.7 | J37: M²
E38: Majoration 10 % | I38: =+ROUND(I37*1.1,0) -> 29 | J38: M²
A39: =+'Bordereau estimatif'!A11 -> I-5 | B39: =+'Bordereau estimatif'!B11 -> Démolition des dalettes ,paillasses et renformis de placards
B40: placars secrétariat | C40: 2 | D40: 2.7 | E40: 0.6 | F40: 1 | G40: =ROUND(+C40*D40*F40*E40,2) -> 3.24
B41: placars bureau 1 | C41: 2 | D41: 2.7 | E41: 0.6 | F41: 1 | G41: =ROUND(+C41*D41*F41*E41,2) -> 3.24
B42: placars bureau 2 | C42: 2 | D42: 1.7 | E42: 0.6 | F42: 1 | G42: =ROUND(+C42*D42*F42*E42,2) -> 2.04
B43: placars bureau 3 | C43: 2 | D43: 1.7 | E43: 0.6 | F43: 1 | G43: =ROUND(+C43*D43*F43*E43,2) -> 2.04
...
