Workbook

Sheet Attach N°1
A1: ROYAUME DU MAROC
A2: MINISTIERE DE L'INTERIEUR
A3: PROVINCE DE TAOUNATE
A4: SECRETARIAT GENERAL
D7: STE EL HASSI DE CONSTRUCTION ( S.A R.L )
A10: PROJET :CONSTRUCTION DU DAR TALIBA A LA COMMUNE URBAINE DE KARIA BA MOHAMMED PROVINCE DE TAOUNATE
A11: MARCHE N° : 30/PT/BP/2013
A13: ATTACHEMENT PROVISOIRE N° 01 (UN)
A15: N° A | B15: Desihnation des ouvrages | C15: U | D15: Qte Totale
B17: I-GROS-ŒUVRES
B18: A / Terrassements
A19: 1 | B19: Fouille en pleine masse dans tous terrains | C19: m3
A20: 2 | B20: Fouille en tranchées ou en puit ou en rigoles dans tout terrain | C20: m3
A21: 3 | B21: Plus value pour fouille dans le rocher | C21: m3
A22: 4 | B22: Evacuation des déblais ou mise en remblais | C22: m3
A23: 5 | B23: Fourniture et mise en œuvre de tout venant compacté | C23: m3
B24: B / Maconnerie en fondation
A25: 6 | B25: Béton de propreté | C25: m3
A26: 7 | B26: Gros béton ou Béton Cyclopéen | C26: m3
A27: 8 | B27: Béton banché | C27: m3
A28: 9 | B28: Arase étanche | C28: m2
B29: C / Béton en fondation
A30: 10 | B30: Béton pour BA en fondation | C30: m3
A31: 11 | B31: Acier tors en fondation | C31: kg
B32: D / Canalisation - Egouts
A33: 13 | B33: Canalisation buses en PVC série I f 200 | C33: ml
A34: 15 | B34: Regards type non visitables 40 /40 | C34: U
A35: 16 | B35: Caniveau 0.40 x 0.40 m | C35: ml
B36: E / Dallage
A37: 19 | B37: Herissonage de 20 cm | C37: m2
A38: 20 | B38: Forme en béton 13cm y/c acier | C38: m2
A41: ARCHITECTE BET ENTREPRISE

Sheet Recap

Sheet Dec 1
A1: ROYAUME DU MAROC | G1: EXERCICE : ……………..
A2: MINISTIERE DE L'INTERIEUR | G2: Chapitre : ……...………….
G3: Article : …………..……….
G4: Paragraphe : ………………
B5: AFFAIRE: CONSTRUCTION D'UN CENTRE POUR ENFANTS ABANDONNES A LA MUNICIPALITE DE TAOUNATE
G6: MONTANT DE L'ACOMPTE
G7: =G68 -> 0 | H7: DHS
B9: Ste ELHASSI DE CONSTRUCTION ( S.A R.L )
B10: Labrans , Karia Ba Mohammed à la Province de Taounate
B11: C.N.S.S.N° : 76 82 851 | F11: MARCHE N° : 30/PT/BP/2013
B12: R.C.N° : 365 à TAOUNATE
B13: N° de patente : 14 800 983
B14: Compte N° : 011 665 0000 01 210 00 01048 51 à BMCE Agence Karia Ba Mohammed
B17: DECOMPTE PROVISOIRE N° 1 (UN)
B18: Des ouvrages exécutés et des dépenses faite à la date du ……………….
A19: Centre pour enfant abandonnes a la municipalite de taounate
A20: N° A | B20: DESIGNATION DES OUVRAGES | C20: U | D20: QTE | E20: P.U | F20: PARTIEL | G20: TOTAL
B21: I / GROS ŒUVRES
B22: A / Terrassements
A23: 1 | B23: Démolistion de bâtiments y compris évacuation | C23: F | D23: =Recap!D16 -> 0 | E23: 100000 | F23: =E23*D23 -> 0
A24: 2 | B24: Terrasement en terrain de toute nature | C24: m3 | D24: =Recap!D17 -> 0 | E24: 30 | F24: =E24*D24 -> 0
A25: 3 | B25: Mise en remblai en évacuation à la décharge publique | C25: m3 | D25: =Recap!D18 -> 0 | E25: 20 | F25: =E25*D25 -> 0
A26: 4 | B26: Fourniture et pose de tout venant compacté | C26: m3 | D26: =Recap!D19 -> 0 | E26: 130 | F26: =E26*D26 -> 0
B27: B / Maconnerie en fondation
A28: 5 | B28: Béton de propreté | C28: m3 | D28: =Recap!D21 -> 0 | E28: 500 | F28: =E28*D28 -> 0
A29: 6 | B29: Gros béton ou Béton Cyclopéen ou béton banché | C29: m3 | D29: =Recap!D22 -> 0 | E29: 600 | F29: =E29*D29 -> 0
A30: 8 | B30: Chape étanche | C30: m2 | D30: =Recap!D23 -> 0 | E30: 70 | F30: =E30*D30 -> 0
B31: B / Maconnerie en fondation
A32: 9 | B32: Béton pour béton armé en fondation | C32: m3 | D32: =Recap!D25 -> 0 | E32: 1000 | F32: =E32*D32 -> 0
A33: 10 | B33: Acier tors en fondation | C33: kg | D33: =Recap!D26 -> 0 | E33: 13 | F33: =E33*D33 -> 0
B34: D/ Béton en élévation
A35: 11 | B35: Béton pour béton armé en élévation | C35: m3 | D35: =Recap!D28 -> 0 | E35: 1000 | F35: =E35*D35 -> 0
A36: 13 | B36: Acier tors en élévation | C36: kg | D36: =Recap!D29 -> 0 | E36: 13 | F36: =E36*D36 -> 0
B37: G /Canalisation
A38: 19 | B38: Canalisation en buses de PVC série II Ф 200 | C38: ml | D38: =Recap!D31 -> 0 | E38: 100 | F38: =E38*D38 -> 0
A39: 20 | B39: Regards de 40 / 40 | C39: U | D39: =Recap!D32 -> 0 | E39: 200 | F39: =E39*D39 -> 0
B40: J /Dallage et revêtement
A41: 27 | B41: Béton de forme légérement armé | C41: m2 | D41: =Recap!D34 -> 0 | E41: 100 | F41: =E41*D41 -> 0
B42: TOTAL GROS ŒUVRES HORS T.V.A | G42: =SUM(F23:F41) -> 0
A45: RECAPITULATION GLOBALE
A47: TOTAL GENERAL HORS T.V.A | G47: =SUM(G23:H42) -> 0
A48: TOTAL TVA 20% | G48: =SUM(G47*0.2) -> 0
A49: TOTAL GENERAL T.T.C | G49: =SUM(G47:H48) -> 0
A51: RECAPITULATION
A52: MARCHE N° : 30/PT/BP/2013
A53: PROJET : CONSTRUCTION D'UN CENTRE POUR ENFANTS ABANDONNES A LA MUNICIPALITE DE TAOUNATE
A55: NATURE DES TRAVAUX | D55: DEPENSES FAITES | F55: RETENUE DE GARANTIE 10% | G55: RESTE
A58: Travaux non términés | D58: =SUM(G49) -> 0 | F58: =SUM(D58*0.1) -> 0 | G58: =SUM(D58-F58) -> 0
A59: Travaux términés | D59: - | F59: - | G59: -
A60: Approvisionnement | D60: - | F60: - | G60: -
A61: Totaux | D61: =SUM(D58) -> 0 | F61: =SUM(F58) -> 0 | G61: =SUM(G58) -> 0
B64: A déduire les décomptes précédement payés | G64: 0
B66: Reste à payer sur l' éxércice en cours | G66: =G61-G64 -> 0
B68: Montant de l'acompte à délivrer | G68: =SUM(G66) -> 0
A72: Verifié et Certifié Exact par Nous , Architecte. | F72: Verifié et Certifié Exact par Nous ,B E T.
B83: Verifier par :
B93: Arreté par nous ordonateur à la somme de:
A94: UN MILLION SOIXANTE DIX MILLE HUIT CENT TRENTE NEUF DIRHAMS ET 76 CENTIMES.
B104: A Taounate le : ……………………..
F111: Montant marché | G111: Montant décompte
F113: 2498277.2 | G113: =SUM(G68) -> 0
F114: *7% | G114: *10%
F115: =SUM(F113*0.07) -> 174879.4 | G115: =SUM(G113*0.1) -> 0

Sheet Bordereau
B5: Académie Régionale d'Education et de Formation Fès - Meknès
A7: APPEL D'OFFRE OUVERT NATIONAL N° 169/2026/AREF/FM
A9: OBJET: TRAVAUX DE CONSTRUCTION D’UN INTERNAT A L’ECOLE COMMUNAUTAIRE FATIMA FIHRYA A LA COMMUNE RURALE INJILE RELEVANT DE LA DIRECTION PROVINCIALE DE BOULEMANE
A10: BORDEREAU DES PRIX DETAIL ESTIMATIF
A11: N° PRIX | B11: DESIGNATION DES OUVRAGES | C11: Unité de mesure | D11: Quantité | E11: Prix unitaire en DHS (HTVA) | F11: PRIX TOTAL HTVA
B12: I-GROS ŒUVRES
B13: Terrassements :
A14: 1 | B14: Fouilles En Pleine Masse Dans Tout Terrain Y/C Rocher | C14: M3 | D14: 550
A15: 2 | B15: Fouilles En Tranchees, Rigoles Et En Puits Dans Tout Terrain Y/C Rocher | C15: M3 | D15: 950
A16: 3 | B16: Evacuation A La Decharge Publique Ou Mise En Remblai. | C16: M3 | D16: 1500
A17: 4 | B17: Remblais En Tout Venant Compacte | C17: M3 | D17: 700
A18: 5 | B18: Béton De Propreté De 0.10m | C18: M3 | D18: 25
A19: 6 | B19: Béton Cyclopéen Ou Gros Béton | C19: M3 | D19: 250
A20: 7 | B20: Béton banché | C20: M3 | D20: 70
A21: 8 | B21: Maçonnerie De Moellons En Fondation | C21: M3 | D21: 10
A22: 9 | B22: Béton pour béton armé en fondations | C22: M3 | D22: 266
A23: 10 | B23: Chape étanche | C23: M2 | D23: 250
A24: 11 | B24: Aciers Tor en fondations | C24: KG | D24: 32000
A25: 12 | B25: Joint de dilatation | C25: U | D25: 6
... A66: 53 | B66: Isolation thermique | C66: M2 | D66: 2400
B67: Total Gros œuvres
B68: II. Revêtements :
A69: 54 | B69: Revêtement du sol en granito poli gris | C69: M2 | D69: 2000
A70: 55 | B70: Revêtement en granito poli blanc | C70: M2 | D70: 130
A71: 56 | B71: Revêtement en carreaux de 30x30 | C71: M2 | D71: 256
A72: 57 | B72: Plinthes en grès cérame 10x30 | C72: ML | D72: 60
A73: 58 | B73: Revêtement en faïence de 20x20 | C73: M2 | D73: 630
A74: 59 | B74: Plinthes en granito poli Gris | C74: ML | D74: 1500
A75: 60 | B75: Revêtement des paillasses en marbre gris de Tiflet | C75: M2 | D75: 50
A76: 61 | B76: Revêtement mural en pierre taillé | C76: M2 | D76: 60
A77: 62 | B77: Faux plafond en staff | C77: M2 | D77: 800
A78: 63 | B78: Revêtement mural en granito lavé | C78: M2 | D78: 100
A79: 64 | B79: Revêtement sol en granito lavé | C79: M2 | D79: 200
A80: 65 | B80: Revêtement marches et contre marches en granito poli gris | C80: ML | D80: 200
... A84: 69 | B84: Fourniture et pose des tuiles mécaniques y/c tuiles faîtières et gouttières | C84: M2 | D84: 1200
B85: Total Revêtements
B86: III - ETANCHEITE
A87: 70 | B87: Forme de pente et chappe de lissage | C87: M2 | D87: 1200
A88: 71 | B88: Etanchéité 40 PY 180 F/F. | C88: M2 | D88: 100
A89: 72 | B89: Etanchéité légère | C89: M2 | D89: 203
A90: 73 | B90: Fourniture et pose de gargouilles | C90: U | D90: 4
A91: 74 | B91: Etanchéité verticale | C91: M2 | D91: 92
A92: 75 | B92: Etanchéité Monocouche | C92: M2 | D92: 1200
B93: Total Etanchéité
B94: IV. Menuiserie :
A95: 76 | B95: Portes isoplanes | C95: M2 | D95: 172
A96: 77 | B96: Portes à lames | C96: M2 | D96: 12
A97: 78 | B97: Placards sous paillasses et tiroirs | C97: M2 | D97: 18
A98: 79 | B98: Placards y compris étagère | C98: M2 | D98: 12
A99: 80 | B99: Fenêtres et châssis | C99: M2 | D99: 10
A100: 81 | B100: Porte Coupe-Feu 2h De Dimension 1.00 M X 2.20 M | C100: M2 | D100: 14
A101: 82 | B101: Porte Coupe Feu 2h De Dimension 1.50 M X 2.20 M | C101: M2 | D101: 33
A102: 83 | B102: Portes métalliques vitrées | C102: M2 | D102: 42
A103: 84 | B103: Grilles de défense | C103: M2 | D103: 87
A104: 85 | B104: Garde corps en ferronnerie | C104: ML | D104: 50
A105: 86 | B105: Portail métallique | C105: M2 | D105: 30
A106: 87 | B106: Placard métallique y compris étagères | C106: M2 | D106: 22
... A109: 90 | B109: Portes en aluminium y compris vitrage de 6 mm | C109: M2 | D109: 5
B110: Total Menuiserie
B111: V / ÉLECTRICITÉ-LUSTRERIE
A112: 91 | B112: Frais de branchement en électricité | C112: F | D112: 1
A113: 92 | B113: Tableau général basse tension TGBT | C113: U | D113: 1
A114: 93 | B114: Coffret de répartition | C114: U | D114: 1
A115: 94 | B115: Boite de coupure y/c fusibles | C115: U | D115: 1
A116: 95 | B116: Coffret de comptage BT | C116: U | D116: 1
A117: 96 | B117: Tableau de protection sous châssis et armoire en électro-zinguée 20/10 Y/C Disjoncteurs | C117: U | D117: 5
A118: 97 | B118: Tableau de protection | C118: U | D118: 2
A119: 98 | B119: Cable U 1000 RO2V Toutes Sections. | C119: ML | D119: 750
A120: 99 | B120: Interrupteur simple allumage | C120: U | D120: 133
A121: 100 | B121: Foyer lumineux double allumage | C121: U | D121: 7
A122: 101 | B122: Foyer lumineux supplémentaire | C122: U | D122: 185
A123: 102 | B123: Foyer lumineux Va et vient | C123: U | D123: 38
... A146: 125 | B146: Transformateur de distribution MT/BT | C146: E | D146: 1
B147: Total Électricité -Lustrerie
B148: VI/ PLOMBERIE SANITAIRE
A149: 126 | B149: Branchement eau + assainissement aux réseaux existants | C149: U | D149: 1
A150: 127 | B150: Equipement compteur 0.20 y/c frais de branchement | C150: U | D150: 1
A151: 128 | B151: Equipement compteur 0.60 y/c frais de branchement | C151: U | D151: 1
A152: 129 | B152: Tube en polyéthylène PEHD PN 16 enterre | C152: ML | D152: 100
A153: 130 | B153: Tube en polyéthylène (PPR) encastré ou apparent toutes sections | C153: ML | D153: 1800
A154: 131 | B154: Robinet et vannes d’arrêt de toute section | C154: U | D154: 23
A155: 132 | B155: Robinet d'arrosage Ø 20/27 mm | C155: U | D155: 9
A156: 133 | B156: Robinet de puisage | C156: U | D156: 7
A157: 134 | B157: Receveur de douche | C157: U | D157: 2
A158: 135 | B158: Douche collective | C158: E | D158: 1
A159: 136 | B159: Lavabo sur colonne | C159: U | D159: 3
A160: 137 | B160: Evier de cuisine à 2 bacs en inox | C160: U | D160: 3
... A178: 155 | B178: Circuit d'Alimentation en GAZ | C178: E | D178: 1
B179: Total Plomberie Sanitaire
B180: VII. Peinture - Vitrerie :
A181: 156 | B181: Peinture extérieure | C181: M2 | D181: 2600
A182: 157 | B182: Peinture intérieurs | C182: M2 | D182: 6990
A183: 158 | B183: Peinture laquée celluc sur bois et métal | C183: M2 | D183: 930
A184: 159 | B184: Peinture glycéro celluc laquée | C184: M2 | D184: 380
A185: 160 | B185: Peinture sur tuyauterie tout diamètre | C185: E | D185: 1
A186: 161 | B186: Verre demi-double de 4 mm | C186: M2 | D186: 45
A187: 162 | B187: Verre armé | C187: M2 | D187: 10
B188: Total Peinture Vitrerie
B189: VIII. Aménagements extérieurs :
A190: 163 | B190: Allées piétonnes en béton reflué | C190: M2 | D190: 140
...
