Workbook

Sheet Attach N°1
A1: ROYAUME DU MAROC
A2: MINISTIERE DE L'INTERIEUR
A3: PROVINCE DE TAOUNATE
A4: SECRETARIAT GENERAL
D7: STE EL HASSI DE CONSTRUCTION ( S.A R.L )
A10: PROJET :CONSTRUCTION DU DAR TALIBA A LA COMMUNE URBAINE DE KARIA BA MOHAMMED PROVINCE DE TAOUNATE
A11: MARCHE N° : 30/PT/BP/2013
A13: ATTACHEMENT PROVISOIRE N° 01 (UN)
A15: N° A | B15: Desihnation des ouvrages | C15: U | D15: Qte Totale
B17: I-GROS-ŒUVRES
B18: A / Terrassements
A19: 1 | B19: Fouille en pleine masse dans tous terrains | C19: m3
A20: 2 | B20: Fouille en tranchées ou en puit ou en rigoles dans tout terrain | C20: m3
A21: 3 | B21: Plus value pour fouille dans le rocher | C21: m3
A22: 4 | B22: Evacuation des déblais ou mise en remblais | C22: m3
A23: 5 | B23: Fourniture et mise en œuvre de tout venant compacté | C23: m3
B24: B / Maconnerie en fondation
A25: 6 | B25: Béton de propreté | C25: m3
A26: 7 | B26: Gros béton ou Béton Cyclopéen | C26: m3
A27: 8 | B27: Béton banché | C27: m3
A28: 9 | B28: Arase étanche | C28: m2
B29: C / Béton en fondation
A30: 10 | B30: Béton pour BA en fondation | C30: m3
A31: 11 | B31: Acier tors en fondation | C31: kg
B32: D / Canalisation - Egouts
A33: 13 | B33: Canalisation buses en PVC série I f 200 | C33: ml
A34: 15 | B34: Regards type non visitables 40 /40 | C34: U
A35: 16 | B35: Caniveau 0.40 x 0.40 m | C35: ml
B36: E / Dallage
A37: 19 | B37: Herissonage de 20 cm | C37: m2
A38: 20 | B38: Forme en béton 13cm y/c acier | C38: m2
A41: ARCHITECTE BET ENTREPRISE

Sheet Recap

Sheet Dec 1
A1: ROYAUME DU MAROC | G1: EXERCICE : ……………..
A2: MINISTIERE DE L'INTERIEUR | G2: Chapitre : ……...………….
G3: Article : …………..……….
G4: Paragraphe : ………………
B5: AFFAIRE: CONSTRUCTION D'UN CENTRE POUR ENFANTS ABANDONNES A LA MUNICIPALITE DE TAOUNATE
G6: MONTANT DE L'ACOMPTE
G7: =G68 -> 0 | H7: DHS
B9: Ste ELHASSI DE CONSTRUCTION ( S.A R.L )
B10: Labrans , Karia Ba Mohammed à la Province de Taounate
B11: C.N.S.S.N° : 76 82 851 | F11: MARCHE N° : 30/PT/BP/2013
B12: R.C.N° : 365 à TAOUNATE
B13: N° de patente : 14 800 983
B14: Compte N° : 011 665 0000 01 210 00 01048 51 à BMCE Agence Karia Ba Mohammed
B17: DECOMPTE PROVISOIRE N° 1 (UN)
B18: Des ouvrages exécutés et des dépenses faite à la date du ……………….
A19: Centre pour enfant abandonnes a la municipalite de taounate
A20: N° A | B20: DESIGNATION DES OUVRAGES | C20: U | D20: QTE | E20: P.U | F20: PARTIEL | G20: TOTAL
B21: I / GROS ŒUVRES
B22: A / Terrassements
A23: 1 | B23: Démolistion de bâtiments y compris évacuation | C23: F | D23: =Recap!D16 -> 0 | E23: 100000 | F23: =E23*D23 -> 0
A24: 2 | B24: Terrasement en terrain de toute nature | C24: m3 | D24: =Recap!D17 -> 0 | E24: 30 | F24: =E24*D24 -> 0
A25: 3 | B25: Mise en remblai en évacuation à la décharge publique | C25: m3 | D25: =Recap!D18 -> 0 | E25: 20 | F25: =E25*D25 -> 0
A26: 4 | B26: Fourniture et pose de tout venant compacté | C26: m3 | D26: =Recap!D19 -> 0 | E26: 130 | F26: =E26*D26 -> 0
B27: B / Maconnerie en fondation
A28: 5 | B28: Béton de propreté | C28: m3 | D28: =Recap!D21 -> 0 | E28: 500 | F28: =E28*D28 -> 0
A29: 6 | B29: Gros béton ou Béton Cyclopéen ou béton banché | C29: m3 | D29: =Recap!D22 -> 0 | E29: 600 | F29: =E29*D29 -> 0
A30: 8 | B30: Chape étanche | C30: m2 | D30: =Recap!D23 -> 0 | E30: 70 | F30: =E30*D30 -> 0
B31: B / Maconnerie en fondation
A32: 9 | B32: Béton pour béton armé en fondation | C32: m3 | D32: =Recap!D25 -> 0 | E32: 1000 | F32: =E32*D32 -> 0
A33: 10 | B33: Acier tors en fondation | C33: kg | D33: =Recap!D26 -> 0 | E33: 13 | F33: =E33*D33 -> 0
B34: D/ Béton en élévation
A35: 11 | B35: Béton pour béton armé en élévation | C35: m3 | D35: =Recap!D28 -> 0 | E35: 1000 | F35: =E35*D35 -> 0
A36: 13 | B36: Acier tors en élévation | C36: kg | D36: =Recap!D29 -> 0 | E36: 13 | F36: =E36*D36 -> 0
B37: G /Canalisation
A38: 19 | B38: Canalisation en buses de PVC série II Ф 200 | C38: ml | D38: =Recap!D31 -> 0 | E38: 100 | F38: =E38*D38 -> 0
A39: 20 | B39: Regards de 40 / 40 | C39: U | D39: =Recap!D32 -> 0 | E39: 200 | F39: =E39*D39 -> 0
B40: J /Dallage et revêtement
A41: 27 | B41: Béton de forme légérement armé | C41: m2 | D41: =Recap!D34 -> 0 | E41: 100 | F41: =E41*D41 -> 0
B42: TOTAL GROS ŒUVRES HORS T.V.A | G42: =SUM(F23:F41) -> 0
A45: RECAPITULATION GLOBALE
...

Sheet Bordereau
B5: Académie Régionale d'Education et de Formation Fès - Meknès
A7: APPEL D'OFFRE OUVERT NATIONAL N° 169/2026/AREF/FM
A9: OBJET: TRAVAUX DE CONSTRUCTION D’UN INTERNAT A L’ECOLE COMMUNAUTAIRE FATIMA FIHRYA A LA COMMUNE RURALE INJILE RELEVANT DE LA DIRECTION PROVINCIALE DE BOULEMANE
A10: BORDEREAU DES PRIX DETAIL ESTIMATIF
A11: N° PRIX | B11: DESIGNATION DES OUVRAGES | C11: Unité de mesure | D11: Quantité | E11: Prix unitaire en DHS (HTVA) | F11: PRIX TOTAL HTVA
B12: I-GROS ŒUVRES
B13: Terrassements :
A14: 1 | B14: Fouilles En Pleine Masse Dans Tout Terrain Y/C Rocher | C14: M3 | D14: 550
A15: 2 | B15: Fouilles En Tranchees, Rigoles Et En Puits Dans Tout Terrain Y/C Rocher | C15: M3 | D15: 950
A16: 3 | B16: Evacuation A La Decharge Publique Ou Mise En Remblai. | C16: M3 | D16: 1500
A17: 4 | B17: Remblais En Tout Venant Compacte | C17: M3 | D17: 700
A18: 5 | B18: Béton De Propreté De 0.10m | C18: M3 | D18: 25
A19: 6 | B19: Béton Cyclopéen Ou Gros Béton | C19: M3 | D19: 250
A20: 7 | B20: Béton banché | C20: M3 | D20: 70
A21: 8 | B21: Maçonnerie De Moellons En Fondation | C21: M3 | D21: 10
A22: 9 | B22: Béton pour béton armé en fondations | C22: M3 | D22: 266
A23: 10 | B23: Chape étanche | C23: M2 | D23: 250
A24: 11 | B24: Aciers Tor en fondations | C24: KG | D24: 32000
A25: 12 | B25: Joint de dilatation | C25: U | D25: 6
... A66: 53 | B66: Isolation thermique | C66: M2 | D66: 2400
B67: Total Gros œuvres
B68: II. Revêtements :
A69: 54 | B69: Revêtement du sol en granito poli gris | C69: M2 | D69: 2000
A70: 55 | B70: Revêtement en granito poli blanc | C70: M2 | D70: 130
A71: 56 | B71: Revêtement en carreaux de 30x30 | C71: M2 | D71: 256
A72: 57 | B72: Plinthes en grès cérame 10x30 | C72: ML | D72: 60
A73: 58 | B73: Revêtement en faïence de 20x20 | C73: M2 | D73: 630
A74: 59 | B74: Plinthes en granito poli Gris | C74: ML | D74: 1500
A75: 60 | B75: Revêtement des paillasses en marbre gris de Tiflet | C75: M2 | D75: 50
A76: 61 | B76: Revêtement mural en pierre taillé | C76: M2 | D76: 60
A77: 62 | B77: Faux plafond en staff | C77: M2 | D77: 800
A78: 63 | B78: Revêtement mural en granito lavé | C78: M2 | D78: 100
A79: 64 | B79: Revêtement sol en granito lavé | C79: M2 | D79: 200
A80: 65 | B80: Revêtement marches et contre marches en granito poli gris | C80: ML | D80: 200
... A84: 69 | B84: Fourniture et pose des tuiles mécaniques y/c tuiles faîtières et gouttières | C84: M2 | D84: 1200
B85: Total Revêtements
B86: III - ETANCHEITE
A87: 70 | B87: Forme de pente et chappe de lissage | C87: M2 | D87: 1200
A88: 71 | B88: Etanchéité 40 PY 180 F/F. | C88: M2 | D88: 100
A89: 72 | B89: Etanchéité légère | C89: M2 | D89: 203
...
